BEGIN:VCALENDAR
VERSION:2.0
PRODID:-//Chicagoland United in Prayer - ECPv6.15.20//NONSGML v1.0//EN
CALSCALE:GREGORIAN
METHOD:PUBLISH
X-WR-CALNAME:Chicagoland United in Prayer
X-ORIGINAL-URL:https://chiunitepray.com
X-WR-CALDESC:Events for Chicagoland United in Prayer
REFRESH-INTERVAL;VALUE=DURATION:PT1H
X-Robots-Tag:noindex
X-PUBLISHED-TTL:PT1H
BEGIN:VTIMEZONE
TZID:America/Chicago
BEGIN:DAYLIGHT
TZOFFSETFROM:-0600
TZOFFSETTO:-0500
TZNAME:CDT
DTSTART:20250309T080000
END:DAYLIGHT
BEGIN:STANDARD
TZOFFSETFROM:-0500
TZOFFSETTO:-0600
TZNAME:CST
DTSTART:20251102T070000
END:STANDARD
BEGIN:DAYLIGHT
TZOFFSETFROM:-0600
TZOFFSETTO:-0500
TZNAME:CDT
DTSTART:20260308T080000
END:DAYLIGHT
BEGIN:STANDARD
TZOFFSETFROM:-0500
TZOFFSETTO:-0600
TZNAME:CST
DTSTART:20261101T070000
END:STANDARD
BEGIN:DAYLIGHT
TZOFFSETFROM:-0600
TZOFFSETTO:-0500
TZNAME:CDT
DTSTART:20270314T080000
END:DAYLIGHT
BEGIN:STANDARD
TZOFFSETFROM:-0500
TZOFFSETTO:-0600
TZNAME:CST
DTSTART:20271107T070000
END:STANDARD
END:VTIMEZONE
BEGIN:VEVENT
DTSTART;TZID=America/Chicago:20260616T090000
DTEND;TZID=America/Chicago:20260616T093000
DTSTAMP:20260421T224204
CREATED:20260318T205919Z
LAST-MODIFIED:20260411T221337Z
UID:81477-1781600400-1781602200@chiunitepray.com
SUMMARY:Together Chicago Prayer Partners
DESCRIPTION:Join our prayer team online Tuesday & Thursday mornings to pray for the Five Focus Areas of Together Chicago.
URL:https://chiunitepray.com/event/together-chicago-prayer-partners-48/
CATEGORIES:Prayer
ATTACH;FMTTYPE=image/png:https://chiunitepray.com/wp-content/uploads/2026/02/TC-Prayer-Partners-landscape-KTianh.png
ORGANIZER;CN="Together Chicago":MAILTO:info@togetherchicago.com
END:VEVENT
BEGIN:VEVENT
DTSTART;TZID=America/Chicago:20260618T090000
DTEND;TZID=America/Chicago:20260618T093000
DTSTAMP:20260421T224204
CREATED:20260320T210228Z
LAST-MODIFIED:20260411T221337Z
UID:81486-1781773200-1781775000@chiunitepray.com
SUMMARY:Together Chicago Prayer Partners
DESCRIPTION:Join our prayer team online Tuesday & Thursday mornings to pray for the Five Focus Areas of Together Chicago.
URL:https://chiunitepray.com/event/together-chicago-prayer-partners-49/
CATEGORIES:Prayer
ATTACH;FMTTYPE=image/png:https://chiunitepray.com/wp-content/uploads/2026/02/TC-Prayer-Partners-landscape-KTianh.png
ORGANIZER;CN="Together Chicago":MAILTO:info@togetherchicago.com
END:VEVENT
BEGIN:VEVENT
DTSTART;TZID=America/Chicago:20260619T180000
DTEND;TZID=America/Chicago:20260619T230000
DTSTAMP:20260421T224204
CREATED:20260321T211518Z
LAST-MODIFIED:20260411T221337Z
UID:81491-1781892000-1781910000@chiunitepray.com
SUMMARY:Light in the Night – Juneteenth Celebration
DESCRIPTION:A free\, family-friendly community event with food\, games\, and resources\, bringing neighbors together to create joy\, safety\, and connection.
URL:https://chiunitepray.com/event/light-in-the-night-juneteenth-celebration/
LOCATION:Starr Park\, 2306 West Maypole Avenue\, Chicago
CATEGORIES:Prayer,Violence Reduction
END:VEVENT
BEGIN:VEVENT
DTSTART;TZID=America/Chicago:20260620T100000
DTEND;TZID=America/Chicago:20260620T110000
DTSTAMP:20260421T224204
CREATED:20260330T214620Z
LAST-MODIFIED:20260411T221337Z
UID:81573-1781949600-1781953200@chiunitepray.com
SUMMARY:Marriage Ministry Prayer Walk – Oakdale Covenant Church
DESCRIPTION:MARRIAGE MINISTRY PRAYER WALK\nMAY THROUGH SEPTEMBER\, EVERY 3RD SATURDAY | 10 AM \nGather our hearts and pray for our marriages\, family and church\nRejoice always\, pray continually\, give thanks in all circumstances; for this is God’s will for you in Christ Jesus.\n1 Thessalonians 5:16-18
URL:https://chiunitepray.com/event/marriage-ministry-prayer-walk-oakdale-covenant-church-2/
LOCATION:Oakdale Park\, 965 W 95 Street\, Chicago
CATEGORIES:Prayer
ATTACH;FMTTYPE=image/png:https://chiunitepray.com/wp-content/uploads/2026/03/Prayer-Walk-OCC-1upbmm.png
END:VEVENT
BEGIN:VEVENT
DTSTART;TZID=America/Chicago:20260621T180000
DTEND;TZID=America/Chicago:20260621T220000
DTSTAMP:20260421T224204
CREATED:20260323T213323Z
LAST-MODIFIED:20260411T221338Z
UID:81503-1782064800-1782079200@chiunitepray.com
SUMMARY:Light in the Night – Father’s Day Celebration
DESCRIPTION:A free\, family-friendly community event with food\, games\, and resources\, bringing neighbors together to create joy\, safety\, and connection.
URL:https://chiunitepray.com/event/light-in-the-night-fathers-day-celebration/
LOCATION:Starr Park\, 2306 West Maypole Avenue\, Chicago
CATEGORIES:Prayer,Violence Reduction
END:VEVENT
BEGIN:VEVENT
DTSTART;TZID=America/Chicago:20260621T193000
DTEND;TZID=America/Chicago:20260621T210000
DTSTAMP:20260421T224204
CREATED:20260323T213323Z
LAST-MODIFIED:20260411T221338Z
UID:81507-1782070200-1782075600@chiunitepray.com
SUMMARY:Artist Prayer Ensemble @ Yes Project Space
DESCRIPTION:Collection of creatives from across Chicagoland gathering to pray for the art industries and individual artists of our city.
URL:https://chiunitepray.com/event/artist-prayer-ensemble-yes-project-space-9/
LOCATION:Yes Project Space\, 3705 W Division\, Chicago\, 60651
CATEGORIES:Prayer
ORGANIZER;CN="The Garden CHI":MAILTO:james@chicagonavs.org
END:VEVENT
BEGIN:VEVENT
DTSTART;TZID=America/Chicago:20260622T180000
DTEND;TZID=America/Chicago:20260622T181500
DTSTAMP:20260421T224204
CREATED:20260324T214421Z
LAST-MODIFIED:20260411T221338Z
UID:81524-1782151200-1782152100@chiunitepray.com
SUMMARY:Love Your School Monday Night Prayer for Chicago Public Schools
DESCRIPTION:Join Love Your School on Mondays at 6pm for a powerful 15-minutes time of intercession for schools\, teachers\, faculty and youth in our city! \nZoom link here: https://us06web.zoom.us/j/85405578587?pwd=JTBE5QUNVbBCFSXUI4a1RzfejXRP9Y.1
URL:https://chiunitepray.com/event/love-your-school-monday-night-prayer-for-chicago-public-schools-16/
CATEGORIES:Faith-Community Mobilization,Prayer,Education,Love Your School
ATTACH;FMTTYPE=image/png:https://chiunitepray.com/wp-content/uploads/2026/03/LYS-Monday-Night-Prayer-Call-vmIwrE.png
ORGANIZER;CN="Love Your School Prayer Corners":MAILTO:prayer@togetherchicago.com
END:VEVENT
BEGIN:VEVENT
DTSTART;TZID=America/Chicago:20260623T090000
DTEND;TZID=America/Chicago:20260623T093000
DTSTAMP:20260421T224204
CREATED:20260325T214356Z
LAST-MODIFIED:20260411T221338Z
UID:81529-1782205200-1782207000@chiunitepray.com
SUMMARY:Together Chicago Prayer Partners
DESCRIPTION:Join our prayer team online Tuesday & Thursday mornings to pray for the Five Focus Areas of Together Chicago.
URL:https://chiunitepray.com/event/together-chicago-prayer-partners-50/
CATEGORIES:Prayer
ATTACH;FMTTYPE=image/png:https://chiunitepray.com/wp-content/uploads/2026/02/TC-Prayer-Partners-landscape-KTianh.png
ORGANIZER;CN="Together Chicago":MAILTO:info@togetherchicago.com
END:VEVENT
BEGIN:VEVENT
DTSTART;TZID=America/Chicago:20260625T090000
DTEND;TZID=America/Chicago:20260625T093000
DTSTAMP:20260421T224204
CREATED:20260327T214413Z
LAST-MODIFIED:20260411T221338Z
UID:81535-1782378000-1782379800@chiunitepray.com
SUMMARY:Together Chicago Prayer Partners
DESCRIPTION:Join our prayer team online Tuesday & Thursday mornings to pray for the Five Focus Areas of Together Chicago.
URL:https://chiunitepray.com/event/together-chicago-prayer-partners-51/
CATEGORIES:Prayer
ATTACH;FMTTYPE=image/png:https://chiunitepray.com/wp-content/uploads/2026/02/TC-Prayer-Partners-landscape-KTianh.png
ORGANIZER;CN="Together Chicago":MAILTO:info@togetherchicago.com
END:VEVENT
BEGIN:VEVENT
DTSTART;TZID=America/Chicago:20260628T193000
DTEND;TZID=America/Chicago:20260628T210000
DTSTAMP:20260421T224204
CREATED:20260330T214621Z
LAST-MODIFIED:20260411T221339Z
UID:81577-1782675000-1782680400@chiunitepray.com
SUMMARY:Artist Prayer Ensemble @ Idyllic Haus
DESCRIPTION:A collection of creatives in Chicago praying for the art industries and individual artists in the city.
URL:https://chiunitepray.com/event/artist-prayer-ensemble-idyllic-haus-9/
LOCATION:Idyllic Haus\, 1010 w 35th St\, Chicago\, 60609
CATEGORIES:Prayer
ATTACH;FMTTYPE=image/jpeg:https://chiunitepray.com/wp-content/uploads/2026/02/Abby-Pic-1-scaled-K5BXO3-scaled.jpg
ORGANIZER;CN="The Garden CHI":MAILTO:james@chicagonavs.org
END:VEVENT
BEGIN:VEVENT
DTSTART;TZID=America/Chicago:20260629T180000
DTEND;TZID=America/Chicago:20260629T181500
DTSTAMP:20260421T224204
CREATED:20260331T214814Z
LAST-MODIFIED:20260411T221338Z
UID:81583-1782756000-1782756900@chiunitepray.com
SUMMARY:Love Your School Monday Night Prayer for Chicago Public Schools
DESCRIPTION:Join Love Your School on Mondays at 6pm for a powerful 15-minutes time of intercession for schools\, teachers\, faculty and youth in our city! \nZoom link here: https://us06web.zoom.us/j/85405578587?pwd=JTBE5QUNVbBCFSXUI4a1RzfejXRP9Y.1
URL:https://chiunitepray.com/event/love-your-school-monday-night-prayer-for-chicago-public-schools-17/
CATEGORIES:Faith-Community Mobilization,Prayer,Education,Love Your School
ATTACH;FMTTYPE=image/png:https://chiunitepray.com/wp-content/uploads/2026/03/LYS-Monday-Night-Prayer-Call-vmIwrE.png
ORGANIZER;CN="Love Your School Prayer Corners":MAILTO:prayer@togetherchicago.com
END:VEVENT
BEGIN:VEVENT
DTSTART;TZID=America/Chicago:20260630T090000
DTEND;TZID=America/Chicago:20260630T093000
DTSTAMP:20260421T224204
CREATED:20260401T215849Z
LAST-MODIFIED:20260411T221338Z
UID:81607-1782810000-1782811800@chiunitepray.com
SUMMARY:Together Chicago Prayer Partners
DESCRIPTION:Join our prayer team online Tuesday & Thursday mornings to pray for the Five Focus Areas of Together Chicago.
URL:https://chiunitepray.com/event/together-chicago-prayer-partners-52/
CATEGORIES:Prayer
ATTACH;FMTTYPE=image/png:https://chiunitepray.com/wp-content/uploads/2026/02/TC-Prayer-Partners-landscape-KTianh.png
ORGANIZER;CN="Together Chicago":MAILTO:info@togetherchicago.com
END:VEVENT
BEGIN:VEVENT
DTSTART;TZID=America/Chicago:20260702T090000
DTEND;TZID=America/Chicago:20260702T093000
DTSTAMP:20260421T224204
CREATED:20260403T215859Z
LAST-MODIFIED:20260411T221338Z
UID:81613-1782982800-1782984600@chiunitepray.com
SUMMARY:Together Chicago Prayer Partners
DESCRIPTION:Join our prayer team online Tuesday & Thursday mornings to pray for the Five Focus Areas of Together Chicago.
URL:https://chiunitepray.com/event/together-chicago-prayer-partners-53/
CATEGORIES:Prayer
ATTACH;FMTTYPE=image/png:https://chiunitepray.com/wp-content/uploads/2026/02/TC-Prayer-Partners-landscape-KTianh.png
ORGANIZER;CN="Together Chicago":MAILTO:info@togetherchicago.com
END:VEVENT
BEGIN:VEVENT
DTSTART;TZID=America/Chicago:20260705T193000
DTEND;TZID=America/Chicago:20260705T210000
DTSTAMP:20260421T224204
CREATED:20260406T215839Z
LAST-MODIFIED:20260411T221338Z
UID:81629-1783279800-1783285200@chiunitepray.com
SUMMARY:Artist Prayer Ensemble @ Yes Project Space
DESCRIPTION:Collection of creatives from across Chicagoland gathering to pray for the art industries and individual artists of our city.
URL:https://chiunitepray.com/event/artist-prayer-ensemble-yes-project-space-10/
LOCATION:Yes Project Space\, 3705 W Division\, Chicago\, 60651
CATEGORIES:Prayer
ORGANIZER;CN="The Garden CHI":MAILTO:james@chicagonavs.org
END:VEVENT
BEGIN:VEVENT
DTSTART;TZID=America/Chicago:20260706T180000
DTEND;TZID=America/Chicago:20260706T181500
DTSTAMP:20260421T224204
CREATED:20260407T220207Z
LAST-MODIFIED:20260411T221338Z
UID:81641-1783360800-1783361700@chiunitepray.com
SUMMARY:Love Your School Monday Night Prayer for Chicago Public Schools
DESCRIPTION:Join Love Your School on Mondays at 6pm for a powerful 15-minutes time of intercession for schools\, teachers\, faculty and youth in our city! \nZoom link here: https://us06web.zoom.us/j/85405578587?pwd=JTBE5QUNVbBCFSXUI4a1RzfejXRP9Y.1
URL:https://chiunitepray.com/event/love-your-school-monday-night-prayer-for-chicago-public-schools-18/
CATEGORIES:Faith-Community Mobilization,Prayer,Education,Love Your School
ATTACH;FMTTYPE=image/png:https://chiunitepray.com/wp-content/uploads/2026/03/LYS-Monday-Night-Prayer-Call-vmIwrE.png
ORGANIZER;CN="Love Your School Prayer Corners":MAILTO:prayer@togetherchicago.com
END:VEVENT
BEGIN:VEVENT
DTSTART;TZID=America/Chicago:20260707T090000
DTEND;TZID=America/Chicago:20260707T093000
DTSTAMP:20260421T224204
CREATED:20260408T215920Z
LAST-MODIFIED:20260411T221338Z
UID:81646-1783414800-1783416600@chiunitepray.com
SUMMARY:Together Chicago Prayer Partners
DESCRIPTION:Join our prayer team online Tuesday & Thursday mornings to pray for the Five Focus Areas of Together Chicago.
URL:https://chiunitepray.com/event/together-chicago-prayer-partners-54/
CATEGORIES:Prayer
ATTACH;FMTTYPE=image/png:https://chiunitepray.com/wp-content/uploads/2026/02/TC-Prayer-Partners-landscape-KTianh.png
ORGANIZER;CN="Together Chicago":MAILTO:info@togetherchicago.com
END:VEVENT
BEGIN:VEVENT
DTSTART;TZID=America/Chicago:20260709T090000
DTEND;TZID=America/Chicago:20260709T093000
DTSTAMP:20260421T224204
CREATED:20260410T221017Z
LAST-MODIFIED:20260411T221338Z
UID:81675-1783587600-1783589400@chiunitepray.com
SUMMARY:Together Chicago Prayer Partners
DESCRIPTION:Join our prayer team online Tuesday & Thursday mornings to pray for the Five Focus Areas of Together Chicago.
URL:https://chiunitepray.com/event/together-chicago-prayer-partners-55/
CATEGORIES:Prayer
ATTACH;FMTTYPE=image/png:https://chiunitepray.com/wp-content/uploads/2026/02/TC-Prayer-Partners-landscape-KTianh.png
ORGANIZER;CN="Together Chicago":MAILTO:info@togetherchicago.com
END:VEVENT
END:VCALENDAR