BEGIN:VCALENDAR
VERSION:2.0
PRODID:-//Chicagoland United in Prayer - ECPv6.15.20//NONSGML v1.0//EN
CALSCALE:GREGORIAN
METHOD:PUBLISH
X-ORIGINAL-URL:https://chiunitepray.com
X-WR-CALDESC:Events for Chicagoland United in Prayer
REFRESH-INTERVAL;VALUE=DURATION:PT1H
X-Robots-Tag:noindex
X-PUBLISHED-TTL:PT1H
BEGIN:VTIMEZONE
TZID:America/Chicago
BEGIN:DAYLIGHT
TZOFFSETFROM:-0600
TZOFFSETTO:-0500
TZNAME:CDT
DTSTART:20250309T080000
END:DAYLIGHT
BEGIN:STANDARD
TZOFFSETFROM:-0500
TZOFFSETTO:-0600
TZNAME:CST
DTSTART:20251102T070000
END:STANDARD
BEGIN:DAYLIGHT
TZOFFSETFROM:-0600
TZOFFSETTO:-0500
TZNAME:CDT
DTSTART:20260308T080000
END:DAYLIGHT
BEGIN:STANDARD
TZOFFSETFROM:-0500
TZOFFSETTO:-0600
TZNAME:CST
DTSTART:20261101T070000
END:STANDARD
BEGIN:DAYLIGHT
TZOFFSETFROM:-0600
TZOFFSETTO:-0500
TZNAME:CDT
DTSTART:20270314T080000
END:DAYLIGHT
BEGIN:STANDARD
TZOFFSETFROM:-0500
TZOFFSETTO:-0600
TZNAME:CST
DTSTART:20271107T070000
END:STANDARD
END:VTIMEZONE
BEGIN:VEVENT
DTSTART;TZID=America/Chicago:20260326T090000
DTEND;TZID=America/Chicago:20260326T093000
DTSTAMP:20260421T095619
CREATED:20260107T150326Z
LAST-MODIFIED:20260326T214335Z
UID:80947-1774515600-1774517400@chiunitepray.com
SUMMARY:Together Chicago Prayer Partners
DESCRIPTION:Join our prayer team online Tuesday & Thursday mornings to pray for the Five Focus Areas of Together Chicago.
URL:https://chiunitepray.com/event/together-chicago-prayer-partners-26/
CATEGORIES:Prayer
ATTACH;FMTTYPE=image/png:https://chiunitepray.com/wp-content/uploads/2026/02/TC-Prayer-Partners-landscape-KTianh.png
ORGANIZER;CN="Together Chicago":MAILTO:info@togetherchicago.com
END:VEVENT
BEGIN:VEVENT
DTSTART;TZID=America/Chicago:20260326T183000
DTEND;TZID=America/Chicago:20260326T193000
DTSTAMP:20260421T095619
CREATED:20260318T205908Z
LAST-MODIFIED:20260326T214335Z
UID:81472-1774549800-1774553400@chiunitepray.com
SUMMARY:Youth Leaders Citywide Gathering
DESCRIPTION:Join Roy Patterson and fellow youth leaders for an evening of idea-sharing\, encouragement\, and fellowship. Let’s combine our superpowers to strengthen one another and inspire the next generation.
URL:https://chiunitepray.com/event/youth-leaders-citywide-gathering/
LOCATION:St. Luke Church of God in Christ\, 914 N Orleans St\, Chicago\, IL\, 60610\, United States
CATEGORIES:Prayer,Education
ATTACH;FMTTYPE=image/png:https://chiunitepray.com/wp-content/uploads/2026/03/Youth-leaders-meeting-DeHVNX.png
END:VEVENT
BEGIN:VEVENT
DTSTART;TZID=America/Chicago:20260328T190000
DTEND;TZID=America/Chicago:20260328T210000
DTSTAMP:20260421T095619
CREATED:20260324T214410Z
LAST-MODIFIED:20260328T214533Z
UID:81513-1774724400-1774731600@chiunitepray.com
SUMMARY:Night Church Worship & Prayer Night
DESCRIPTION:Spontaneous Worship Night is back!! \nA night to gather\, worship\, pray\, and make space for God to move. Bring your instrument\, bring your voice\, or simply come as you are.
URL:https://chiunitepray.com/event/night-church-worship-prayer-night-2/
LOCATION:Real Church\, 2201 W. Erie St.\, Chicago\, 60612
CATEGORIES:Prayer
ATTACH;FMTTYPE=image/png:https://chiunitepray.com/wp-content/uploads/2026/03/Night-Church-March-28th-Worship-Night-tAbFIp.png
ORGANIZER;CN="Night Church":MAILTO:nightchurch@togetherchicago.com
END:VEVENT
BEGIN:VEVENT
DTSTART;TZID=America/Chicago:20260329T160000
DTEND;TZID=America/Chicago:20260329T180000
DTSTAMP:20260421T095619
CREATED:20260226T194558Z
LAST-MODIFIED:20260329T214337Z
UID:81252-1774800000-1774807200@chiunitepray.com
SUMMARY:The Passion of Christ Hymnsing
DESCRIPTION:Join us for Passion Hymnsing as we lift our voices in songs that reflect on the cross and celebrate the hope of the empty tomb. Come ready to sing\, reflect\, and rejoice together as we remember Christ’s sacrifice and resurrection. \nHope Church Chicago meets in the chapel of Chicago Hope Academy. Additional parking is available behind the school at 2156 W. Ogden. Entrances to the service are marked with Hope Church Welcome flags.
URL:https://chiunitepray.com/event/passion-hymnsing/
LOCATION:Hope Church\, 2189 W Bowler St\, Chicago\, IL
CATEGORIES:Prayer
ATTACH;FMTTYPE=image/png:https://chiunitepray.com/wp-content/uploads/2026/03/HymnSing-2026-Mar-Postcard-2-93fDms.png
ORGANIZER;CN="Together Chicago":MAILTO:info@togetherchicago.com
END:VEVENT
BEGIN:VEVENT
DTSTART;TZID=America/Chicago:20260329T193000
DTEND;TZID=America/Chicago:20260329T210000
DTSTAMP:20260421T095619
CREATED:20260226T194602Z
LAST-MODIFIED:20260329T214337Z
UID:81257-1774812600-1774818000@chiunitepray.com
SUMMARY:Artist Prayer Ensemble @ Yes Project Space
DESCRIPTION:Collection of creatives from across Chicagoland gathering to pray for the art industries and individual artists of our city.
URL:https://chiunitepray.com/event/artist-prayer-ensemble-yes-project-space-3/
LOCATION:Yes Project Space\, 3705 W Division\, Chicago\, 60651
CATEGORIES:Prayer
ATTACH;FMTTYPE=image/jpeg:https://chiunitepray.com/wp-content/uploads/2026/02/Abby-Pic-scaled-CI1PXH-scaled.jpg
ORGANIZER;CN="The Garden CHI":MAILTO:james@chicagonavs.org
END:VEVENT
BEGIN:VEVENT
DTSTART;TZID=America/Chicago:20260330T180000
DTEND;TZID=America/Chicago:20260330T181500
DTSTAMP:20260421T095619
CREATED:20260307T203045Z
LAST-MODIFIED:20260330T214550Z
UID:81367-1774893600-1774894500@chiunitepray.com
SUMMARY:Love Your School Monday Night Prayer for Chicago Public Schools
DESCRIPTION:Join Love Your School on Mondays at 6pm for a powerful 15-minutes time of intercession for schools\, teachers\, faculty and youth in our city! \nZoom link here: https://us06web.zoom.us/j/85405578587?pwd=JTBE5QUNVbBCFSXUI4a1RzfejXRP9Y.1
URL:https://chiunitepray.com/event/love-your-school-monday-night-prayer-for-chicago-public-schools-4/
CATEGORIES:Faith-Community Mobilization,Prayer,Education,Love Your School
ATTACH;FMTTYPE=image/png:https://chiunitepray.com/wp-content/uploads/2026/03/LYS-Monday-Night-Prayer-Call-vmIwrE.png
ORGANIZER;CN="Love Your School Prayer Corners":MAILTO:prayer@togetherchicago.com
END:VEVENT
BEGIN:VEVENT
DTSTART;TZID=America/Chicago:20260331T090000
DTEND;TZID=America/Chicago:20260331T093000
DTSTAMP:20260421T095619
CREATED:20251231T142832Z
LAST-MODIFIED:20260331T214806Z
UID:80842-1774947600-1774949400@chiunitepray.com
SUMMARY:Together Chicago Prayer Partners
DESCRIPTION:Join our prayer team online Tuesday & Thursday mornings to pray for the Five Focus Areas of Together Chicago.
URL:https://chiunitepray.com/event/together-chicago-prayer-partners-14/
CATEGORIES:Prayer
ATTACH;FMTTYPE=image/png:https://chiunitepray.com/wp-content/uploads/2026/02/TC-Prayer-Partners-landscape-KTianh.png
ORGANIZER;CN="Together Chicago":MAILTO:info@togetherchicago.com
END:VEVENT
BEGIN:VEVENT
DTSTART;TZID=America/Chicago:20260401T100000
DTEND;TZID=America/Chicago:20260401T113000
DTSTAMP:20260421T095619
CREATED:20260101T142851Z
LAST-MODIFIED:20260401T215839Z
UID:80850-1775037600-1775043000@chiunitepray.com
SUMMARY:CUIP Monthly Prayer & Updates Meeting
DESCRIPTION:Meeting to continue the work of growing united prayer towards shalom in Chicagoland. All are welcome to join in person or participate virtually. Come early (9:30 a.m.) for some coffee\, snacks\, and fellowship with one another!
URL:https://chiunitepray.com/event/cuip-monthly-prayer-updates-meeting-5/
LOCATION:From the Heart Church\, 6641 S Troy St\, Chicago\, IL\, 60629\, United States
CATEGORIES:Faith-Community Mobilization,Prayer
ATTACH;FMTTYPE=image/png:https://chiunitepray.com/wp-content/uploads/2026/01/Screenshot-2025-11-25-at-11.55.40-xlqHor.png
ORGANIZER;CN="Chicagoland United in Prayer":MAILTO:info@chiunitepray.com
END:VEVENT
BEGIN:VEVENT
DTSTART;TZID=America/Chicago:20260402T090000
DTEND;TZID=America/Chicago:20260402T093000
DTSTAMP:20260421T095619
CREATED:20260107T150326Z
LAST-MODIFIED:20260402T215825Z
UID:80951-1775120400-1775122200@chiunitepray.com
SUMMARY:Together Chicago Prayer Partners
DESCRIPTION:Join our prayer team online Tuesday & Thursday mornings to pray for the Five Focus Areas of Together Chicago.
URL:https://chiunitepray.com/event/together-chicago-prayer-partners-27/
CATEGORIES:Prayer
ATTACH;FMTTYPE=image/png:https://chiunitepray.com/wp-content/uploads/2026/02/TC-Prayer-Partners-landscape-KTianh.png
ORGANIZER;CN="Together Chicago":MAILTO:info@togetherchicago.com
END:VEVENT
BEGIN:VEVENT
DTSTART;TZID=America/Chicago:20260402T190000
DTEND;TZID=America/Chicago:20260402T203000
DTSTAMP:20260421T095619
CREATED:20260330T214551Z
LAST-MODIFIED:20260402T215826Z
UID:81546-1775156400-1775161800@chiunitepray.com
SUMMARY:Youth Worship Night
DESCRIPTION:Students and youth leaders from across the city are invited to a special Youth Worship Night in partnership with the Cru Christian Club from Jones College Prep. Middle school and high school students\, along with youth ministry leaders\, are encouraged to attend.
URL:https://chiunitepray.com/event/youth-worship-night/
LOCATION:Holy Trinity Church\, 218 S Wabash Ave\, 2nd Floor\, Chicago\, Illinois
CATEGORIES:Prayer
ATTACH;FMTTYPE=image/jpeg:https://chiunitepray.com/wp-content/uploads/2026/03/image-kaCapr.jpg
END:VEVENT
BEGIN:VEVENT
DTSTART;TZID=America/Chicago:20260403T150000
DTEND;TZID=America/Chicago:20260403T170000
DTSTAMP:20260421T095619
CREATED:20260330T214558Z
LAST-MODIFIED:20260403T215851Z
UID:81555-1775228400-1775235600@chiunitepray.com
SUMMARY:Stations of the Cross Prayer Walk
DESCRIPTION:This is the 38th Annual Good Friday Walk organized by the Near North Ministry Alliance\, where we will walk\, pray\, and reflect on Jesus’ path to the cross. Like past years\, we will also pass out wooden crosses to those we come engage as we walk. \nSign up here with your name and congregation to briefly reflect on a Station of the Cross as we walk through our community. \nWe will leave from Seward Park promptly at 3:15PM.
URL:https://chiunitepray.com/event/stations-of-the-cross-prayer-walk/
LOCATION:Seward Park\, 375 W Elm St.\, Chicago\, Illinois
CATEGORIES:Prayer
ATTACH;FMTTYPE=image/png:https://chiunitepray.com/wp-content/uploads/2026/03/2025-Good-Friday-Walk-Flier-1-AvfEOb.png
END:VEVENT
BEGIN:VEVENT
DTSTART;TZID=America/Chicago:20260404T100000
DTEND;TZID=America/Chicago:20260404T180000
DTSTAMP:20260421T095619
CREATED:20260323T213316Z
LAST-MODIFIED:20260404T220013Z
UID:81498-1775296800-1775325600@chiunitepray.com
SUMMARY:Spend in the Black
DESCRIPTION:Spend in the Black is organized to uplift and invest in Black-owned businesses while bringing the community together. \nEnjoy a vibrant outdoor marketplace featuring a wide variety of Black-owned vendors\, delicious food trucks\, and local entrepreneurs offering everything from fashion and beauty to wellness and lifestyle products. \nThis year’s event will also feature appearances from influential voices in culture\, food\, media\, and entertainment\, including community leader Englewood Barbie\, food platforms like Black People Eats and Black Chicago Eats\, and a wide range of creators\, tastemakers\, and media personalities who continue to amplify Black businesses across the city and beyond. \nAttendees may also catch appearances from notable guests and entertainers such as Twista\, Larenz Tate\, Jason Weaver\, and comedian Mojo Brooks\, along with a host of local influencers\, media outlets\, and community leaders who are committed to supporting Black excellence.
URL:https://chiunitepray.com/event/spend-in-the-black/
LOCATION:7500 S King Drive\, 7500 S. King Drive\, Chicago
CATEGORIES:Prayer,Community Engagement
ATTACH;FMTTYPE=image/jpeg:https://chiunitepray.com/wp-content/uploads/2026/03/IMG_0183-TkRtPS.jpg
END:VEVENT
BEGIN:VEVENT
DTSTART;TZID=America/Chicago:20260405T063000
DTEND;TZID=America/Chicago:20260405T200000
DTSTAMP:20260421T095619
CREATED:20260401T215839Z
LAST-MODIFIED:20260405T215844Z
UID:81591-1775370600-1775419200@chiunitepray.com
SUMMARY:Sonrise Easter Service at Daley Plaza
DESCRIPTION:Join us Easter Sunday for music\, scripture\, and prayer as we share our unity in Christ
URL:https://chiunitepray.com/event/sonrise-easter-service-at-daley-plaza/
LOCATION:Daley Plaza\, 337 E Randolph Dr\, Chicago\, IL\, 60602\, United States
CATEGORIES:Faith-Community Mobilization,Prayer
ATTACH;FMTTYPE=image/png:https://chiunitepray.com/wp-content/uploads/2026/04/Easter-Sonrise-2026-yV0MNk.png
END:VEVENT
BEGIN:VEVENT
DTSTART;TZID=America/Chicago:20260405T160000
DTEND;TZID=America/Chicago:20260405T180000
DTSTAMP:20260421T095619
CREATED:20260105T145838Z
LAST-MODIFIED:20260405T215844Z
UID:80861-1775404800-1775412000@chiunitepray.com
SUMMARY:Community Easter Egg Hunt
DESCRIPTION:A free\, family-friendly community event with food\, games\, and resources\, bringing neighbors together to create joy\, safety\, and connection.
URL:https://chiunitepray.com/event/light-in-the-night-easter-celebration/
LOCATION:Starr Park\, 2306 West Maypole Avenue\, Chicago
CATEGORIES:Prayer,Light in the Night,Violence Reduction,Community Engagement
ATTACH;FMTTYPE=image/png:https://chiunitepray.com/wp-content/uploads/2026/03/Easter-Egg-Hunt-326-Presentation-MZvbSO.png
END:VEVENT
BEGIN:VEVENT
DTSTART;TZID=America/Chicago:20260405T193000
DTEND;TZID=America/Chicago:20260405T210000
DTSTAMP:20260421T095619
CREATED:20260226T194606Z
LAST-MODIFIED:20260405T215844Z
UID:81281-1775417400-1775422800@chiunitepray.com
SUMMARY:Artist Prayer Ensemble @ Idyllic Haus
DESCRIPTION:A collection of creatives in Chicago praying for the art industries and individual artists in the city.
URL:https://chiunitepray.com/event/artist-prayer-ensemble-idyllic-haus-3/
LOCATION:Idyllic Haus\, 1010 w 35th St\, Chicago\, 60609
CATEGORIES:Prayer
ATTACH;FMTTYPE=image/jpeg:https://chiunitepray.com/wp-content/uploads/2026/02/Abby-Pic-1-scaled-K5BXO3-scaled.jpg
ORGANIZER;CN="The Garden CHI":MAILTO:james@chicagonavs.org
END:VEVENT
BEGIN:VEVENT
DTSTART;TZID=America/Chicago:20260406T180000
DTEND;TZID=America/Chicago:20260406T181500
DTSTAMP:20260421T095619
CREATED:20260307T203045Z
LAST-MODIFIED:20260406T215832Z
UID:81371-1775498400-1775499300@chiunitepray.com
SUMMARY:Love Your School Monday Night Prayer for Chicago Public Schools
DESCRIPTION:Join Love Your School on Mondays at 6pm for a powerful 15-minutes time of intercession for schools\, teachers\, faculty and youth in our city! \nZoom link here: https://us06web.zoom.us/j/85405578587?pwd=JTBE5QUNVbBCFSXUI4a1RzfejXRP9Y.1
URL:https://chiunitepray.com/event/love-your-school-monday-night-prayer-for-chicago-public-schools-5/
CATEGORIES:Faith-Community Mobilization,Prayer,Education,Love Your School
ATTACH;FMTTYPE=image/png:https://chiunitepray.com/wp-content/uploads/2026/03/LYS-Monday-Night-Prayer-Call-vmIwrE.png
ORGANIZER;CN="Love Your School Prayer Corners":MAILTO:prayer@togetherchicago.com
END:VEVENT
BEGIN:VEVENT
DTSTART;TZID=America/Chicago:20260407T090000
DTEND;TZID=America/Chicago:20260407T093000
DTSTAMP:20260421T095619
CREATED:20260107T150326Z
LAST-MODIFIED:20260407T220157Z
UID:80955-1775552400-1775554200@chiunitepray.com
SUMMARY:Together Chicago Prayer Partners
DESCRIPTION:Join our prayer team online Tuesday & Thursday mornings to pray for the Five Focus Areas of Together Chicago.
URL:https://chiunitepray.com/event/together-chicago-prayer-partners-28/
CATEGORIES:Prayer
ATTACH;FMTTYPE=image/png:https://chiunitepray.com/wp-content/uploads/2026/02/TC-Prayer-Partners-landscape-KTianh.png
ORGANIZER;CN="Together Chicago":MAILTO:info@togetherchicago.com
END:VEVENT
BEGIN:VEVENT
DTSTART;TZID=America/Chicago:20260408T084500
DTEND;TZID=America/Chicago:20260408T103000
DTSTAMP:20260421T095619
CREATED:20260317T204914Z
LAST-MODIFIED:20260408T215913Z
UID:81461-1775637900-1775644200@chiunitepray.com
SUMMARY:Pray North Gathering
DESCRIPTION:Come join us to pray for a fresh move of the Holy Spirit for individuals\, families\, schools\, churches\, and communities across Chicagoland’s North Suburbs. We rotate our monthly gathering locations; stay tuned here for future meeting locations: https://togetherchicago.com/organizer/pray-north/ \nThank you\, Pastor Thomas and Longmeadow Community Church for hosting this month. \nPlease contact us with any questions: Bruce Sanoshy bridgeforhope@gmail.org 847.363.2949
URL:https://chiunitepray.com/event/pray-north-gathering-4/
LOCATION:Longmeadow Community Church\, 28566 N. Lemon Rd.\, Mundelein\, 60060
CATEGORIES:Prayer
ATTACH;FMTTYPE=image/jpeg:https://chiunitepray.com/wp-content/uploads/2026/03/Pray-North-logo-featured-2-lQsnTr.jpg
ORGANIZER;CN="Pray North":MAILTO:bridgeforhope@gmail.com
END:VEVENT
BEGIN:VEVENT
DTSTART;TZID=America/Chicago:20260409T090000
DTEND;TZID=America/Chicago:20260409T093000
DTSTAMP:20260421T095619
CREATED:20260109T152154Z
LAST-MODIFIED:20260409T220133Z
UID:80961-1775725200-1775727000@chiunitepray.com
SUMMARY:Together Chicago Prayer Partners
DESCRIPTION:Join our prayer team online Tuesday & Thursday mornings to pray for the Five Focus Areas of Together Chicago.
URL:https://chiunitepray.com/event/together-chicago-prayer-partners-29/
CATEGORIES:Prayer
ATTACH;FMTTYPE=image/png:https://chiunitepray.com/wp-content/uploads/2026/02/TC-Prayer-Partners-landscape-KTianh.png
ORGANIZER;CN="Together Chicago":MAILTO:info@togetherchicago.com
END:VEVENT
BEGIN:VEVENT
DTSTART;VALUE=DATE:20260411
DTEND;VALUE=DATE:20260412
DTSTAMP:20260421T095619
CREATED:20260131T174457Z
LAST-MODIFIED:20260411T221331Z
UID:81083-1775865600-1775951999@chiunitepray.com
SUMMARY:Called Women’s Conference
DESCRIPTION:Called is a one-day training event designed to strengthen and equip women who serve in ministry leadership. Join us on Moody’s Chicago campus or online with women from across the Chicago city—as together we seek to be encouraged in our calling to serve God. We know not every woman sees herself as a ministry leader\, but every woman is called to follow Jesus. Because of that\, we are pleased to include several workshops not just for leaders\, but also for any woman who wants to grow in faith and be encouraged in everyday discipleship. \nOur keynote speakers\, Trillia Newbell and Sandra Richter\, will explore our theme verse from 1 Thessalonians 2:4. \nIn addition to the keynote sessions\, you’ll have three opportunities to choose from 12 practical and theologically rich workshops led by professors and ministry practitioners. In addition to the Saturday conference\, there is also an optional Pre-Conference Panel Dinner on Friday\, April 10th at 6PM. \n  \nRegistration Costs\nFriday\, April 10 (Optional Pre-Conference Event) \n\nSpeaker Panel Dinner\, $40\n\nSaturday\, April 11 (Main Conference) \n\nIndividual In-Person Registration\, $75\nLivestream\, $50 per individual and $300 per group\n\nOne workshop per session will be livestreamed. All registrants will receive access to all workshop recordings after the event.
URL:https://chiunitepray.com/event/called-womens-conference/
LOCATION:Moody Bible Institute\, 820 N. LaSalle Blvd.\, Chicago\, IL
CATEGORIES:Prayer,Professional Development
ATTACH;FMTTYPE=image/jpeg:https://chiunitepray.com/wp-content/uploads/2026/01/Called-Flyer-9wiW5r.jpg
END:VEVENT
BEGIN:VEVENT
DTSTART;TZID=America/Chicago:20260411T093000
DTEND;TZID=America/Chicago:20260411T133000
DTSTAMP:20260421T095619
CREATED:20260111T153332Z
LAST-MODIFIED:20260411T221331Z
UID:80969-1775899800-1775914200@chiunitepray.com
SUMMARY:Building Blocks of Peace 2026 Part 2
DESCRIPTION:Learn more at buildingblocksofpeace.com
URL:https://chiunitepray.com/event/building-blocks-of-peace-2026-part-2/
LOCATION:River City Community Church\, 3709 W Grand Ave\, Chicago\, 60651\, United States
CATEGORIES:Prayer,Peacemaking
ATTACH;FMTTYPE=image/jpeg:https://chiunitepray.com/wp-content/uploads/2025/12/Building-Blocks-of-Peace-2025-Title-Slide-V2gQg2.jpg
ORGANIZER;CN="Building Blocks of Peace":MAILTO:nate.tubbs@togetherchicago.com
END:VEVENT
BEGIN:VEVENT
DTSTART;TZID=America/Chicago:20260412T193000
DTEND;TZID=America/Chicago:20260412T210000
DTSTAMP:20260421T095619
CREATED:20260226T194603Z
LAST-MODIFIED:20260411T221332Z
UID:81261-1776022200-1776027600@chiunitepray.com
SUMMARY:Artist Prayer Ensemble @ Yes Project Space
DESCRIPTION:Collection of creatives from across Chicagoland gathering to pray for the art industries and individual artists of our city.
URL:https://chiunitepray.com/event/artist-prayer-ensemble-yes-project-space-4/
LOCATION:Yes Project Space\, 3705 W Division\, Chicago\, 60651
CATEGORIES:Prayer
ATTACH;FMTTYPE=image/jpeg:https://chiunitepray.com/wp-content/uploads/2026/02/Abby-Pic-scaled-CI1PXH-scaled.jpg
ORGANIZER;CN="The Garden CHI":MAILTO:james@chicagonavs.org
END:VEVENT
BEGIN:VEVENT
DTSTART;TZID=America/Chicago:20260413T180000
DTEND;TZID=America/Chicago:20260413T181500
DTSTAMP:20260421T095619
CREATED:20260307T203046Z
LAST-MODIFIED:20260411T221332Z
UID:81375-1776103200-1776104100@chiunitepray.com
SUMMARY:Love Your School Monday Night Prayer for Chicago Public Schools
DESCRIPTION:Join Love Your School on Mondays at 6pm for a powerful 15-minutes time of intercession for schools\, teachers\, faculty and youth in our city! \nZoom link here: https://us06web.zoom.us/j/85405578587?pwd=JTBE5QUNVbBCFSXUI4a1RzfejXRP9Y.1
URL:https://chiunitepray.com/event/love-your-school-monday-night-prayer-for-chicago-public-schools-6/
CATEGORIES:Faith-Community Mobilization,Prayer,Education,Love Your School
ATTACH;FMTTYPE=image/png:https://chiunitepray.com/wp-content/uploads/2026/03/LYS-Monday-Night-Prayer-Call-vmIwrE.png
ORGANIZER;CN="Love Your School Prayer Corners":MAILTO:prayer@togetherchicago.com
END:VEVENT
BEGIN:VEVENT
DTSTART;TZID=America/Chicago:20260414T090000
DTEND;TZID=America/Chicago:20260414T093000
DTSTAMP:20260421T095619
CREATED:20260114T160031Z
LAST-MODIFIED:20260411T221332Z
UID:80995-1776157200-1776159000@chiunitepray.com
SUMMARY:Together Chicago Prayer Partners
DESCRIPTION:Join our prayer team online Tuesday & Thursday mornings to pray for the Five Focus Areas of Together Chicago.
URL:https://chiunitepray.com/event/together-chicago-prayer-partners-30/
CATEGORIES:Prayer
ATTACH;FMTTYPE=image/png:https://chiunitepray.com/wp-content/uploads/2026/02/TC-Prayer-Partners-landscape-KTianh.png
ORGANIZER;CN="Together Chicago":MAILTO:info@togetherchicago.com
END:VEVENT
BEGIN:VEVENT
DTSTART;TZID=America/Chicago:20260414T090000
DTEND;TZID=America/Chicago:20260414T100000
DTSTAMP:20260421T095619
CREATED:20260213T191533Z
LAST-MODIFIED:20260411T221332Z
UID:81152-1776157200-1776160800@chiunitepray.com
SUMMARY:Love Your School: Village of Support Monthly Meeting
DESCRIPTION:Each month\, pastors\, school leaders\, mentors\, and community partners align around: \n\nMobilizing churches to support local schools\nStrengthening violence prevention efforts\nEquipping mentors with tools and data to support youth\n\nWe invite those who are serving youth or have a heart for the youth to join us. \nhttps://togetherchicago.com/village-of-support
URL:https://chiunitepray.com/event/love-your-school-village-of-support-monthly-meeting-2/
CATEGORIES:Prayer,Education,Love Your School
ATTACH;FMTTYPE=image/png:https://chiunitepray.com/wp-content/uploads/2026/02/Love-Your-School-Village-of-support-2o3qeG.png
ORGANIZER;CN="Together Chicago":MAILTO:info@togetherchicago.com
END:VEVENT
BEGIN:VEVENT
DTSTART;TZID=America/Chicago:20260415T100000
DTEND;TZID=America/Chicago:20260415T130000
DTSTAMP:20260421T095619
CREATED:20260407T220158Z
LAST-MODIFIED:20260411T221332Z
UID:81636-1776247200-1776258000@chiunitepray.com
SUMMARY:Faith & Service Partner In-person Convening (Invite Only)
DESCRIPTION:Our partner meeting is a time to learn more about the Faith & Service Initiative and connect or reconnect with organizations doing similar work. \nAGENDA\n10-10:15 AM – Arrival/Check-in\n10:15 – 10:30 AM – Welcome/F&S Overview\n10:30 – 11:00 AM – Organization Presentations\n11:05 – 11:35 AM – Exploring Cohort Learning\n11:40 – 12:10 PM – Focus Area Connections\n12:15 – 1:00 PM – Lunch and Networking \nRSVP here: https://give.togetherchicago.com/web_forms/1265-f-s-in-person-convening-april-2026
URL:https://chiunitepray.com/event/faith-service-partner-in-person-convening-invite-only/
LOCATION:Chicago BUILD\, 5100 W. Harrison\, Chicago
CATEGORIES:Faith-Community Mobilization,Prayer
ATTACH;FMTTYPE=image/png:https://chiunitepray.com/wp-content/uploads/2026/04/FS-partner-April-2026-ch9rVq.png
ORGANIZER;CN="Together Chicago Faith and Service":MAILTO:faithandservice@togetherchicago.com
END:VEVENT
BEGIN:VEVENT
DTSTART;TZID=America/Chicago:20260416T090000
DTEND;TZID=America/Chicago:20260416T093000
DTSTAMP:20260421T095619
CREATED:20260116T155947Z
LAST-MODIFIED:20260411T221332Z
UID:81002-1776330000-1776331800@chiunitepray.com
SUMMARY:Together Chicago Prayer Partners
DESCRIPTION:Join our prayer team online Tuesday & Thursday mornings to pray for the Five Focus Areas of Together Chicago.
URL:https://chiunitepray.com/event/together-chicago-prayer-partners-31/
CATEGORIES:Prayer
ATTACH;FMTTYPE=image/png:https://chiunitepray.com/wp-content/uploads/2026/02/TC-Prayer-Partners-landscape-KTianh.png
ORGANIZER;CN="Together Chicago":MAILTO:info@togetherchicago.com
END:VEVENT
BEGIN:VEVENT
DTSTART;VALUE=DATE:20260418
DTEND;VALUE=DATE:20260419
DTSTAMP:20260421T095619
CREATED:20260401T215842Z
LAST-MODIFIED:20260411T221332Z
UID:81597-1776470400-1776556799@chiunitepray.com
SUMMARY:Earth Day Cleanups – Chicago Park District
DESCRIPTION:“2026 marks the 41st anniversary of citywide Earth Day park cleanups! For four decades\, we have gathered Chicagoans all over the city each spring to clean and green our beloved parks. We’re excited to do it again this April in partnership with Friends of the Parks.”
URL:https://chiunitepray.com/event/earth-day-cleanups-chicago-park-district/
CATEGORIES:Prayer,Community Engagement
ATTACH;FMTTYPE=image/jpeg:https://chiunitepray.com/wp-content/uploads/2026/04/Earth-Day-Chicago-Parks-District-2026-W2ZDkP.jpg
END:VEVENT
BEGIN:VEVENT
DTSTART;TZID=America/Chicago:20260419T193000
DTEND;TZID=America/Chicago:20260419T210000
DTSTAMP:20260421T095619
CREATED:20260226T194606Z
LAST-MODIFIED:20260411T221332Z
UID:81285-1776627000-1776632400@chiunitepray.com
SUMMARY:Artist Prayer Ensemble @ Idyllic Haus
DESCRIPTION:A collection of creatives in Chicago praying for the art industries and individual artists in the city.
URL:https://chiunitepray.com/event/artist-prayer-ensemble-idyllic-haus-4/
LOCATION:Idyllic Haus\, 1010 w 35th St\, Chicago\, 60609
CATEGORIES:Prayer
ATTACH;FMTTYPE=image/jpeg:https://chiunitepray.com/wp-content/uploads/2026/02/Abby-Pic-1-scaled-K5BXO3-scaled.jpg
ORGANIZER;CN="The Garden CHI":MAILTO:james@chicagonavs.org
END:VEVENT
BEGIN:VEVENT
DTSTART;TZID=America/Chicago:20260420T180000
DTEND;TZID=America/Chicago:20260420T181500
DTSTAMP:20260421T095619
CREATED:20260307T203046Z
LAST-MODIFIED:20260411T221332Z
UID:81379-1776708000-1776708900@chiunitepray.com
SUMMARY:Love Your School Monday Night Prayer for Chicago Public Schools
DESCRIPTION:Join Love Your School on Mondays at 6pm for a powerful 15-minutes time of intercession for schools\, teachers\, faculty and youth in our city! \nZoom link here: https://us06web.zoom.us/j/85405578587?pwd=JTBE5QUNVbBCFSXUI4a1RzfejXRP9Y.1
URL:https://chiunitepray.com/event/love-your-school-monday-night-prayer-for-chicago-public-schools-7/
CATEGORIES:Faith-Community Mobilization,Prayer,Education,Love Your School
ATTACH;FMTTYPE=image/png:https://chiunitepray.com/wp-content/uploads/2026/03/LYS-Monday-Night-Prayer-Call-vmIwrE.png
ORGANIZER;CN="Love Your School Prayer Corners":MAILTO:prayer@togetherchicago.com
END:VEVENT
END:VCALENDAR