BEGIN:VCALENDAR
VERSION:2.0
PRODID:-//Chicagoland United in Prayer - ECPv6.15.20//NONSGML v1.0//EN
CALSCALE:GREGORIAN
METHOD:PUBLISH
X-WR-CALNAME:Chicagoland United in Prayer
X-ORIGINAL-URL:https://chiunitepray.com
X-WR-CALDESC:Events for Chicagoland United in Prayer
REFRESH-INTERVAL;VALUE=DURATION:PT1H
X-Robots-Tag:noindex
X-PUBLISHED-TTL:PT1H
BEGIN:VTIMEZONE
TZID:America/Chicago
BEGIN:DAYLIGHT
TZOFFSETFROM:-0600
TZOFFSETTO:-0500
TZNAME:CDT
DTSTART:20250309T080000
END:DAYLIGHT
BEGIN:STANDARD
TZOFFSETFROM:-0500
TZOFFSETTO:-0600
TZNAME:CST
DTSTART:20251102T070000
END:STANDARD
BEGIN:DAYLIGHT
TZOFFSETFROM:-0600
TZOFFSETTO:-0500
TZNAME:CDT
DTSTART:20260308T080000
END:DAYLIGHT
BEGIN:STANDARD
TZOFFSETFROM:-0500
TZOFFSETTO:-0600
TZNAME:CST
DTSTART:20261101T070000
END:STANDARD
BEGIN:DAYLIGHT
TZOFFSETFROM:-0600
TZOFFSETTO:-0500
TZNAME:CDT
DTSTART:20270314T080000
END:DAYLIGHT
BEGIN:STANDARD
TZOFFSETFROM:-0500
TZOFFSETTO:-0600
TZNAME:CST
DTSTART:20271107T070000
END:STANDARD
END:VTIMEZONE
BEGIN:VEVENT
DTSTART;TZID=America/Chicago:20260310T090000
DTEND;TZID=America/Chicago:20260310T100000
DTSTAMP:20260422T033943
CREATED:20260213T191525Z
LAST-MODIFIED:20260310T204449Z
UID:81146-1773133200-1773136800@chiunitepray.com
SUMMARY:Love Your School: Village of Support Monthly Meeting
DESCRIPTION:Each month\, pastors\, school leaders\, mentors\, and community partners align around: \n\nMobilizing churches to support local schools\nStrengthening violence prevention efforts\nEquipping mentors with tools and data to support youth\n\nWe invite those who are serving youth or have a heart for the youth to join us. \nhttps://togetherchicago.com/village-of-support
URL:https://chiunitepray.com/event/love-your-school-village-of-support-monthly-meeting/
CATEGORIES:Prayer,Education,Love Your School
ATTACH;FMTTYPE=image/png:https://chiunitepray.com/wp-content/uploads/2026/02/Love-Your-School-Village-of-support-2o3qeG.png
ORGANIZER;CN="Together Chicago":MAILTO:info@togetherchicago.com
END:VEVENT
BEGIN:VEVENT
DTSTART;TZID=America/Chicago:20260310T090000
DTEND;TZID=America/Chicago:20260310T093000
DTSTAMP:20260422T033943
CREATED:20251210T124433Z
LAST-MODIFIED:20260310T204449Z
UID:80784-1773133200-1773135000@chiunitepray.com
SUMMARY:Together Chicago Prayer Partners
DESCRIPTION:Join our prayer team online Tuesday & Thursday mornings to pray for the Five Focus Areas of Together Chicago.
URL:https://chiunitepray.com/event/together-chicago-prayer-partners-11/
CATEGORIES:Prayer
ATTACH;FMTTYPE=image/png:https://chiunitepray.com/wp-content/uploads/2026/02/TC-Prayer-Partners-landscape-KTianh.png
ORGANIZER;CN="Together Chicago":MAILTO:info@togetherchicago.com
END:VEVENT
BEGIN:VEVENT
DTSTART;TZID=America/Chicago:20260309T183000
DTEND;TZID=America/Chicago:20260309T210000
DTSTAMP:20260422T033943
CREATED:20260306T202031Z
LAST-MODIFIED:20260309T204416Z
UID:81339-1773081000-1773090000@chiunitepray.com
SUMMARY:The Garden Chi Open Mic
DESCRIPTION:The Garden Open Mic is a variety open mic for people to come and cultivate their creative expression.
URL:https://chiunitepray.com/event/the-garden-chi-open-mic/
LOCATION:Borelli’s Pizza\, 2124 W Lawrence Ave\, Chicago\, IL\, 60625
CATEGORIES:Prayer,Community Engagement
ATTACH;FMTTYPE=image/jpeg:https://chiunitepray.com/wp-content/uploads/2026/03/IMG_9023-yOV4Vc.jpg
ORGANIZER;CN="The Garden CHI":MAILTO:james@chicagonavs.org
END:VEVENT
BEGIN:VEVENT
DTSTART;TZID=America/Chicago:20260309T180000
DTEND;TZID=America/Chicago:20260309T181500
DTSTAMP:20260422T033943
CREATED:20260307T203036Z
LAST-MODIFIED:20260309T204415Z
UID:81353-1773079200-1773080100@chiunitepray.com
SUMMARY:Love Your School Monday Night Prayer for Chicago Public Schools
DESCRIPTION:Join Love Your School on Mondays at 6pm for a powerful 15-minutes time of intercession for schools\, teachers\, faculty and youth in our city! \nZoom link here: https://us06web.zoom.us/j/85405578587?pwd=JTBE5QUNVbBCFSXUI4a1RzfejXRP9Y.1
URL:https://chiunitepray.com/event/love-your-school-monday-night-prayer-for-chicago-public-schools/
CATEGORIES:Faith-Community Mobilization,Prayer,Education,Love Your School
ATTACH;FMTTYPE=image/png:https://chiunitepray.com/wp-content/uploads/2026/03/LYS-Monday-Night-Prayer-Call-vmIwrE.png
ORGANIZER;CN="Love Your School Prayer Corners":MAILTO:prayer@togetherchicago.com
END:VEVENT
BEGIN:VEVENT
DTSTART;TZID=America/Chicago:20260308T193000
DTEND;TZID=America/Chicago:20260308T210000
DTSTAMP:20260422T033943
CREATED:20260226T194553Z
LAST-MODIFIED:20260308T203142Z
UID:81242-1772998200-1773003600@chiunitepray.com
SUMMARY:Artist Prayer Ensemble @ Idyllic Haus
DESCRIPTION:A collection of creatives in Chicago praying for the art industries and individual artists in the city.
URL:https://chiunitepray.com/event/artist-prayer-ensemble-idyllic-haus/
LOCATION:Idyllic Haus\, 1010 w 35th St\, Chicago\, 60609
CATEGORIES:Prayer
ATTACH;FMTTYPE=image/jpeg:https://chiunitepray.com/wp-content/uploads/2026/02/Abby-Pic-1-scaled-K5BXO3-scaled.jpg
ORGANIZER;CN="The Garden CHI":MAILTO:james@chicagonavs.org
END:VEVENT
BEGIN:VEVENT
DTSTART;TZID=America/Chicago:20260307T093000
DTEND;TZID=America/Chicago:20260307T133000
DTSTAMP:20260422T033943
CREATED:20251207T123324Z
LAST-MODIFIED:20260307T203036Z
UID:80694-1772875800-1772890200@chiunitepray.com
SUMMARY:Building Blocks of Peace 2026 Part 1
DESCRIPTION:Learn more at buildingblocksofpeace.com
URL:https://chiunitepray.com/event/building-blocks-of-peace-2026-part-1/
LOCATION:New Progressive MB Church\, 9425 S Perry Ave\, Chicago\, IL\, 60620\, United States
CATEGORIES:Prayer,Peacemaking
ATTACH;FMTTYPE=image/jpeg:https://chiunitepray.com/wp-content/uploads/2025/12/Building-Blocks-of-Peace-2025-Title-Slide-V2gQg2.jpg
ORGANIZER;CN="Building Blocks of Peace":MAILTO:nate.tubbs@togetherchicago.com
END:VEVENT
BEGIN:VEVENT
DTSTART;TZID=America/Chicago:20260305T090000
DTEND;TZID=America/Chicago:20260305T093000
DTSTAMP:20260422T033943
CREATED:20260107T150324Z
LAST-MODIFIED:20260305T201856Z
UID:80935-1772701200-1772703000@chiunitepray.com
SUMMARY:Together Chicago Prayer Partners
DESCRIPTION:Join our prayer team online Tuesday & Thursday mornings to pray for the Five Focus Areas of Together Chicago.
URL:https://chiunitepray.com/event/together-chicago-prayer-partners-23/
CATEGORIES:Prayer
ATTACH;FMTTYPE=image/png:https://chiunitepray.com/wp-content/uploads/2026/02/TC-Prayer-Partners-landscape-KTianh.png
ORGANIZER;CN="Together Chicago":MAILTO:info@togetherchicago.com
END:VEVENT
BEGIN:VEVENT
DTSTART;TZID=America/Chicago:20260305T050000
DTEND;TZID=America/Chicago:20260305T063000
DTSTAMP:20260422T033943
CREATED:20251209T124432Z
LAST-MODIFIED:20260305T201856Z
UID:80738-1772686800-1772692200@chiunitepray.com
SUMMARY:Citywide Prayer Watch
DESCRIPTION:This Chicago and Chicagoland prayer meeting is online Thursday mornings. \nWe begin with five minutes of silence\,  Start with scripture\, and then seek God’s direction to pray His kingdom come and His will be done for the city. \nPlease fill out this survey for zoom access: Citywide Prayer Sign up
URL:https://chiunitepray.com/event/citywide-prayer-watch-10/
CATEGORIES:Prayer
ATTACH;FMTTYPE=image/jpeg:https://chiunitepray.com/wp-content/uploads/2025/12/IMG_3561-e1765226517136-OSRlGb.jpg
ORGANIZER;CN="Chicagoland United in Prayer":MAILTO:info@chiunitepray.com
END:VEVENT
BEGIN:VEVENT
DTSTART;TZID=America/Chicago:20260304T100000
DTEND;TZID=America/Chicago:20260304T113000
DTSTAMP:20260422T033943
CREATED:20251204T121858Z
LAST-MODIFIED:20260304T201425Z
UID:80684-1772618400-1772623800@chiunitepray.com
SUMMARY:CUIP Monthly Prayer & Updates Meeting
DESCRIPTION:Meeting to continue the work of growing united prayer towards shalom in Chicagoland. All are welcome to join in person or participate virtually. Come early (9:30 a.m.) for some coffee\, snacks\, and fellowship with one another!
URL:https://chiunitepray.com/event/cuip-monthly-prayer-updates-meeting-4/
LOCATION:Chicago Welcome Center\, 4024 W Montrose Ave\, Chicago\, 60641\, United States
CATEGORIES:Faith-Community Mobilization,Prayer
ATTACH;FMTTYPE=image/png:https://chiunitepray.com/wp-content/uploads/2025/12/Screenshot-2025-11-25-at-11.49.53-1tRWOU.png
ORGANIZER;CN="Chicagoland United in Prayer":MAILTO:info@chiunitepray.com
END:VEVENT
BEGIN:VEVENT
DTSTART;TZID=America/Chicago:20260303T090000
DTEND;TZID=America/Chicago:20260303T093000
DTSTAMP:20260422T033943
CREATED:20251210T124432Z
LAST-MODIFIED:20260303T200549Z
UID:80780-1772528400-1772530200@chiunitepray.com
SUMMARY:Together Chicago Prayer Partners
DESCRIPTION:Join our prayer team online Tuesday & Thursday mornings to pray for the Five Focus Areas of Together Chicago.
URL:https://chiunitepray.com/event/together-chicago-prayer-partners-10/
CATEGORIES:Prayer
ATTACH;FMTTYPE=image/png:https://chiunitepray.com/wp-content/uploads/2026/02/TC-Prayer-Partners-landscape-KTianh.png
ORGANIZER;CN="Together Chicago":MAILTO:info@togetherchicago.com
END:VEVENT
BEGIN:VEVENT
DTSTART;TZID=America/Chicago:20260301T193000
DTEND;TZID=America/Chicago:20260301T210000
DTSTAMP:20260422T033943
CREATED:20260226T194548Z
LAST-MODIFIED:20260301T194434Z
UID:81236-1772393400-1772398800@chiunitepray.com
SUMMARY:Artist Prayer Ensemble @ Yes Project Space
DESCRIPTION:Collection of creatives from across Chicagoland gathering to pray for the art industries and individual artists of our city.
URL:https://chiunitepray.com/event/artist-prayer-ensemble-yes-project-space/
LOCATION:Yes Project Space\, 3705 W Division\, Chicago\, 60651
CATEGORIES:Prayer
ATTACH;FMTTYPE=image/jpeg:https://chiunitepray.com/wp-content/uploads/2026/02/Abby-Pic-scaled-CI1PXH-scaled.jpg
ORGANIZER;CN="The Garden CHI":MAILTO:james@chicagonavs.org
END:VEVENT
BEGIN:VEVENT
DTSTART;TZID=America/Chicago:20260301T180000
DTEND;TZID=America/Chicago:20260301T200000
DTSTAMP:20260422T033943
CREATED:20260123T170005Z
LAST-MODIFIED:20260301T194433Z
UID:81029-1772388000-1772395200@chiunitepray.com
SUMMARY:PRAY Joliet – Prayer Gathering
DESCRIPTION:Let’s take one evening and pray together. \nDoors open at 5:30pm. \nSpread the word. Share a post. Call a friend. Text somebody!
URL:https://chiunitepray.com/event/pray-joliet-prayer-gathering/
LOCATION:Victory City Church south campus\, 2212 MCDONOUGH ST\, Joliet\, IL\, 60436\, United States
CATEGORIES:Prayer
ATTACH;FMTTYPE=image/png:https://chiunitepray.com/wp-content/uploads/2026/01/PJ-3126-VCC-McDonough-bBNn3M.png
ORGANIZER;CN="Pray Joliet":MAILTO:PrayJolietPray@gmail.com
END:VEVENT
BEGIN:VEVENT
DTSTART;TZID=America/Chicago:20260228T090000
DTEND;TZID=America/Chicago:20260228T120000
DTSTAMP:20260422T033943
CREATED:20260204T180328Z
LAST-MODIFIED:20260228T194506Z
UID:81105-1772269200-1772280000@chiunitepray.com
SUMMARY:Chicagoland Collective Gathering- U-Turn Covenant Church
DESCRIPTION:A gathering primarily in Spanish\, designed pastorally in response to the current realities facing Hispanic pastors and leaders. While focused on Spanish-speaking leaders\, everyone is welcome.
URL:https://chiunitepray.com/event/chicagoland-collective-gathering-u-turn-covenant-church/
LOCATION:U-Turn Covenant Church\, 35 North Ave\, Northlake\, 60164
CATEGORIES:Faith-Community Mobilization,Prayer
END:VEVENT
BEGIN:VEVENT
DTSTART;TZID=America/Chicago:20260227T183000
DTEND;TZID=America/Chicago:20260227T203000
DTSTAMP:20260422T033943
CREATED:20260204T180327Z
LAST-MODIFIED:20260227T194335Z
UID:81099-1772217000-1772224200@chiunitepray.com
SUMMARY:Chicagoland Collective Gathering
DESCRIPTION:This evening will be a time to reconnect as pastors and network leaders\, share vision for where God is leading us\, and collaborate around what it looks like to see more churches and networks multiplying across Chicagoland. \nWe’ll hear from a special guest\, Robert Guerrero\, create space for meaningful conversation\, and continue building momentum toward the 16% mission—seeing a growing movement of disciple-making\, multiplying churches across our city. \nThis gathering is designed for leaders who sense that multiplication is not optional\, but essential for reaching Chicagoland in this next season. \nPlease register here: https://chicagoland-collective-507689.churchcenter.com/registrations/events/3346162
URL:https://chiunitepray.com/event/chicagoland-collective-gathering/
LOCATION:New Life Community Church Midway\, 5101 S Keeler Ave\, Chicago\, 60632
CATEGORIES:Faith-Community Mobilization,Prayer
ATTACH;FMTTYPE=image/jpeg:https://chiunitepray.com/wp-content/uploads/2026/02/Gathering-Feb26-SCREEN-2-fzbT5G.jpg
END:VEVENT
BEGIN:VEVENT
DTSTART;TZID=America/Chicago:20260227T170000
DTEND;TZID=America/Chicago:20260227T200000
DTSTAMP:20260422T033943
CREATED:20260124T165841Z
LAST-MODIFIED:20260227T194335Z
UID:81047-1772211600-1772222400@chiunitepray.com
SUMMARY:2026 Black History Showcase
DESCRIPTION:Fun for the whole family- food\, games\, youth performances\, black history trivia\, & presentation of our annual award for Foundational Contributions.
URL:https://chiunitepray.com/event/2026-black-history-showcase/
LOCATION:River City Community Church\, 3709 W Grand Ave\, Chicago\, 60651\, United States
CATEGORIES:Prayer,Community Engagement
ATTACH;FMTTYPE=image/jpeg:https://chiunitepray.com/wp-content/uploads/2026/01/black-history-showcase-event-image-IawL19.jpg
ORGANIZER;CN="River City CDC":MAILTO:info@rcitycdc.org
END:VEVENT
BEGIN:VEVENT
DTSTART;TZID=America/Chicago:20260226T090000
DTEND;TZID=America/Chicago:20260226T093000
DTSTAMP:20260422T033943
CREATED:20260107T150324Z
LAST-MODIFIED:20260226T194547Z
UID:80931-1772096400-1772098200@chiunitepray.com
SUMMARY:Together Chicago Prayer Partners
DESCRIPTION:Join our prayer team online Tuesday & Thursday mornings to pray for the Five Focus Areas of Together Chicago.
URL:https://chiunitepray.com/event/together-chicago-prayer-partners-22/
CATEGORIES:Prayer
ATTACH;FMTTYPE=image/png:https://chiunitepray.com/wp-content/uploads/2026/02/TC-Prayer-Partners-landscape-KTianh.png
ORGANIZER;CN="Together Chicago":MAILTO:info@togetherchicago.com
END:VEVENT
BEGIN:VEVENT
DTSTART;TZID=America/Chicago:20260226T050000
DTEND;TZID=America/Chicago:20260226T063000
DTSTAMP:20260422T033943
CREATED:20251209T124431Z
LAST-MODIFIED:20260226T194547Z
UID:80734-1772082000-1772087400@chiunitepray.com
SUMMARY:Citywide Prayer Watch
DESCRIPTION:This Chicago and Chicagoland prayer meeting is online Thursday mornings. \nWe begin with five minutes of silence\,  Start with scripture\, and then seek God’s direction to pray His kingdom come and His will be done for the city. \nPlease fill out this survey for zoom access: Citywide Prayer Sign up
URL:https://chiunitepray.com/event/citywide-prayer-watch-9/
CATEGORIES:Prayer
ATTACH;FMTTYPE=image/jpeg:https://chiunitepray.com/wp-content/uploads/2025/12/IMG_3561-e1765226517136-OSRlGb.jpg
ORGANIZER;CN="Chicagoland United in Prayer":MAILTO:info@chiunitepray.com
END:VEVENT
BEGIN:VEVENT
DTSTART;TZID=America/Chicago:20260224T090000
DTEND;TZID=America/Chicago:20260224T093000
DTSTAMP:20260422T033943
CREATED:20251210T124432Z
LAST-MODIFIED:20260224T194550Z
UID:80776-1771923600-1771925400@chiunitepray.com
SUMMARY:Together Chicago Prayer Partners
DESCRIPTION:Join our prayer team online Tuesday & Thursday mornings to pray for the Five Focus Areas of Together Chicago.
URL:https://chiunitepray.com/event/together-chicago-prayer-partners-9/
CATEGORIES:Prayer
ATTACH;FMTTYPE=image/png:https://chiunitepray.com/wp-content/uploads/2026/02/TC-Prayer-Partners-landscape-KTianh.png
ORGANIZER;CN="Together Chicago":MAILTO:info@togetherchicago.com
END:VEVENT
BEGIN:VEVENT
DTSTART;TZID=America/Chicago:20260221T100000
DTEND;TZID=America/Chicago:20260221T160000
DTSTAMP:20260422T033943
CREATED:20260130T173409Z
LAST-MODIFIED:20260221T194328Z
UID:81073-1771668000-1771689600@chiunitepray.com
SUMMARY:Argyle Lunar New Year Celebration
DESCRIPTION:Join Uptown United and the local business\, non-profit\, and cultural organizations on Argyle Street in 2026 as we continue the annual tradition going back 40+ years of celebrating the Lunar New Year along the Argyle commercial corridor in Uptown! To welcome the Year of the Horse\, we’ll be hosting the Lunar New Year Parade on Saturday February 21st (kick-off at 1:00pm sharp at Argyle & Sheridan) featuring 20+ local community groups\, cultural institutions\, dancers and performers! In addition\, a number of local organizations are planning pop-ups with family-friendly activities between 10:30am-4:00pm.
URL:https://chiunitepray.com/event/argyle-lunar-new-year-celebration/
LOCATION:W Argyle St & N Sheridan Rd
CATEGORIES:Prayer,Community Engagement
ATTACH;FMTTYPE=image/jpeg:https://chiunitepray.com/wp-content/uploads/2026/01/EventPhotoFull_2025-1124-LNY-SQUARE-1-UZSsO1.jpg
END:VEVENT
BEGIN:VEVENT
DTSTART;TZID=America/Chicago:20260219T090000
DTEND;TZID=America/Chicago:20260219T093000
DTSTAMP:20260422T033943
CREATED:20260107T150323Z
LAST-MODIFIED:20260219T194438Z
UID:80927-1771491600-1771493400@chiunitepray.com
SUMMARY:Together Chicago Prayer Partners
DESCRIPTION:Join our prayer team online Tuesday & Thursday mornings to pray for the Five Focus Areas of Together Chicago.
URL:https://chiunitepray.com/event/together-chicago-prayer-partners-21/
CATEGORIES:Prayer
ATTACH;FMTTYPE=image/png:https://chiunitepray.com/wp-content/uploads/2026/02/TC-Prayer-Partners-1-z9UrHS.png
ORGANIZER;CN="Together Chicago":MAILTO:info@togetherchicago.com
END:VEVENT
BEGIN:VEVENT
DTSTART;TZID=America/Chicago:20260219T050000
DTEND;TZID=America/Chicago:20260219T063000
DTSTAMP:20260422T033943
CREATED:20251209T124431Z
LAST-MODIFIED:20260219T194438Z
UID:80730-1771477200-1771482600@chiunitepray.com
SUMMARY:Citywide Prayer Watch
DESCRIPTION:This Chicago and Chicagoland prayer meeting is online Thursday mornings. \nWe begin with five minutes of silence\,  Start with scripture\, and then seek God’s direction to pray His kingdom come and His will be done for the city. \nPlease fill out this survey for zoom access: Citywide Prayer Sign up
URL:https://chiunitepray.com/event/citywide-prayer-watch-8/
CATEGORIES:Prayer
ATTACH;FMTTYPE=image/jpeg:https://chiunitepray.com/wp-content/uploads/2025/12/IMG_3561-e1765226517136-OSRlGb.jpg
ORGANIZER;CN="Chicagoland United in Prayer":MAILTO:info@chiunitepray.com
END:VEVENT
BEGIN:VEVENT
DTSTART;TZID=America/Chicago:20260217T090000
DTEND;TZID=America/Chicago:20260217T093000
DTSTAMP:20260422T033943
CREATED:20251210T124431Z
LAST-MODIFIED:20260217T194555Z
UID:80772-1771318800-1771320600@chiunitepray.com
SUMMARY:Together Chicago Prayer Partners
DESCRIPTION:Join our prayer team online Tuesday & Thursday mornings to pray for the Five Focus Areas of Together Chicago.
URL:https://chiunitepray.com/event/together-chicago-prayer-partners-8/
CATEGORIES:Prayer
ATTACH;FMTTYPE=image/png:https://chiunitepray.com/wp-content/uploads/2026/02/TC-Prayer-Partners-1-z9UrHS.png
ORGANIZER;CN="Together Chicago":MAILTO:info@togetherchicago.com
END:VEVENT
BEGIN:VEVENT
DTSTART;TZID=America/Chicago:20260212T090000
DTEND;TZID=America/Chicago:20260212T093000
DTSTAMP:20260422T033943
CREATED:20260107T150323Z
LAST-MODIFIED:20260212T191652Z
UID:80923-1770886800-1770888600@chiunitepray.com
SUMMARY:Together Chicago Prayer Partners
DESCRIPTION:Join our prayer team online Tuesday & Thursday mornings to pray for the Five Focus Areas of Together Chicago.
URL:https://chiunitepray.com/event/together-chicago-prayer-partners-20/
CATEGORIES:Prayer
ATTACH;FMTTYPE=image/png:https://chiunitepray.com/wp-content/uploads/2026/02/TC-Prayer-Partners-1-z9UrHS.png
ORGANIZER;CN="Together Chicago":MAILTO:info@togetherchicago.com
END:VEVENT
BEGIN:VEVENT
DTSTART;TZID=America/Chicago:20260212T050000
DTEND;TZID=America/Chicago:20260212T063000
DTSTAMP:20260422T033943
CREATED:20251209T124431Z
LAST-MODIFIED:20260212T191652Z
UID:80726-1770872400-1770877800@chiunitepray.com
SUMMARY:Citywide Prayer Watch
DESCRIPTION:This Chicago and Chicagoland prayer meeting is online Thursday mornings. \nWe begin with five minutes of silence\,  Start with scripture\, and then seek God’s direction to pray His kingdom come and His will be done for the city. \nPlease fill out this survey for zoom access: Citywide Prayer Sign up
URL:https://chiunitepray.com/event/citywide-prayer-watch-7/
CATEGORIES:Prayer
ATTACH;FMTTYPE=image/jpeg:https://chiunitepray.com/wp-content/uploads/2025/12/IMG_3561-e1765226517136-OSRlGb.jpg
ORGANIZER;CN="Chicagoland United in Prayer":MAILTO:info@chiunitepray.com
END:VEVENT
BEGIN:VEVENT
DTSTART;TZID=America/Chicago:20260210T190000
DTEND;TZID=America/Chicago:20260210T200000
DTSTAMP:20260422T033943
CREATED:20260123T170002Z
LAST-MODIFIED:20260210T184843Z
UID:81026-1770750000-1770753600@chiunitepray.com
SUMMARY:Webinar: How Can My Church Help Our Immigrant Neighbor?
DESCRIPTION:Join experts from Administer Justice\, World Relief\, and Immigrant Connection for a free\, practical webinar designed to equip your church with real solutions. You’ll learn how to respond with compassion and care for the most vulnerable in our neighborhood. \nYou’ll walk away with: \n\nA clearer understanding of the real challenges immigrant families are facing today\nPractical ways your church can provide help that is compassionate\, legal\, and effective\nProven models that churches across the country are already using\nNext steps you can begin implementing immediately\, regardless of your church’s size or resources\n\nRSVP required! https://secure.qgiv.com/for/administerjustice/event/howcanmychurchhelpourimmigrantneighbor/
URL:https://chiunitepray.com/event/webinar-how-can-my-church-help-our-immigrant-neighbor/
CATEGORIES:Faith-Community Mobilization,Prayer,Faith-in-Action,Community Engagement
ATTACH;FMTTYPE=image/png:https://chiunitepray.com/wp-content/uploads/2026/01/immigration_webinar_event_registration_page_header_png-1767909948_large-P2KPdP.png
ORGANIZER;CN="World Relief":MAILTO:jduncan@wr.org
END:VEVENT
BEGIN:VEVENT
DTSTART;TZID=America/Chicago:20260210T090000
DTEND;TZID=America/Chicago:20260210T093000
DTSTAMP:20260422T033943
CREATED:20251210T124430Z
LAST-MODIFIED:20260210T184843Z
UID:80768-1770714000-1770715800@chiunitepray.com
SUMMARY:Together Chicago Prayer Partners
DESCRIPTION:Join our prayer team online Tuesday & Thursday mornings to pray for the Five Focus Areas of Together Chicago. \nSign up for weekly email and Zoom link: togetherchicago.com/prayer-partners
URL:https://chiunitepray.com/event/together-chicago-prayer-partners-7/
CATEGORIES:Prayer
ATTACH;FMTTYPE=image/png:https://chiunitepray.com/wp-content/uploads/2026/02/TC-Prayer-Partners-1-z9UrHS.png
ORGANIZER;CN="Together Chicago":MAILTO:info@togetherchicago.com
END:VEVENT
BEGIN:VEVENT
DTSTART;TZID=America/Chicago:20260207T160000
DTEND;TZID=America/Chicago:20260207T210000
DTSTAMP:20260422T033943
CREATED:20260127T171430Z
LAST-MODIFIED:20260207T183115Z
UID:81058-1770480000-1770498000@chiunitepray.com
SUMMARY:When the West Side Burned: Documentary\, Community Conversation\, & Concert
DESCRIPTION:The tragic assassination of Dr. Martin Luther King\, Jr. in April 1968 triggered unrest across the country\, but in Chicago\, the rage and grief that erupted in the city’s Black communities led to an unprecedented period of public mourning\, looting\, and destruction on the city’s West Side. Examining King’s close ties to Chicago and the hope he brought to residents\, how his murder brought long-simmering resentment over segregation and discrimination to a boiling point\, and how this still-recovering neighborhood continues to move forward. \nThis moving forward is a story of resilience and reclamation \n4:00 PM: Screening of When the West Side Burned — A WTTW Chicago Stories Documentary (56 minutes) \n6:00 PM: Community Conversation – Moderated by WTTW senior producer and documentarian Dan Andries\, this panel discussion will highlight the voices of West Side leaders\, some of whom were featured in the documentary. They will share memories of Dr. King and their visions for the future. \n7:00 PM: Concert – This concert will feature Orbert Davis’s original compositions from When the West Side Burned. Additionally\, music from the 1960s\, capturing the spirit of both the turbulence and the hope of that time\, will be included in the concert.\nPlease Call for Group Seating Reservations \nPlease purchase tickets in advance ($2/person): https://www.eventcreate.com/e/whenthewestsideburned \nFor more information and tickets\, please visit www.ChiJazzPhil.org
URL:https://chiunitepray.com/event/when-the-west-side-burned-a-wttw-chicago-stories-documentary-community-conversation-and-concert/
LOCATION:Kehrein Center\, 5628 W Washington Blvd\, Chicago\, IL\, 60644\, United States
CATEGORIES:Faith-Community Mobilization,Prayer,Violence Reduction,Peacemaking,Community Engagement
ATTACH;FMTTYPE=image/png:https://chiunitepray.com/wp-content/uploads/2026/01/CJP-WTWSB-Website-Hero-Banner-One-Day-670-x-300-px-7gCNqS.png
ORGANIZER;CN="Chicago Jazz Philharmonic":MAILTO:laura.rice@chijazzphil.org
END:VEVENT
BEGIN:VEVENT
DTSTART;TZID=America/Chicago:20260206T100000
DTEND;TZID=America/Chicago:20260206T130000
DTSTAMP:20260422T033943
CREATED:20260204T180323Z
LAST-MODIFIED:20260206T182214Z
UID:81092-1770372000-1770382800@chiunitepray.com
SUMMARY:Faithful Friday gathering – Faith Over Fear
DESCRIPTION:We invite you to join the Faith Over Fear Coalition for the return of our monthly Faithful Fridays gathering\, hosted at the historic DuSable Black History Museum and Education Center. \nWe will gather at 10:00am in the Roundhouse across the street from the museum\, with doors opening at 10:00am. \nThe morning will include collective prayers alongside courageous calls to action against systemic violence and injustice impacting our communities\, featuring faith leaders from across Chicago and beyond. \nA shared lunch will follow at 12:30pm. There is no RSVP required. Please help spread the word and join us in person.
URL:https://chiunitepray.com/event/faithful-friday-gathering-faith-over-fear/
LOCATION:DuSable Museum Roundhouse\, 751 E 57th St\, Chicago\, IL\, United States
CATEGORIES:Faith-Community Mobilization,Prayer
ATTACH;FMTTYPE=image/jpeg:https://chiunitepray.com/wp-content/uploads/2026/02/FOF-Friday-Feb-6-2026-RI5nan.jpg
END:VEVENT
BEGIN:VEVENT
DTSTART;TZID=America/Chicago:20260205T090000
DTEND;TZID=America/Chicago:20260205T093000
DTSTAMP:20260422T033943
CREATED:20260107T150322Z
LAST-MODIFIED:20260205T181615Z
UID:80919-1770282000-1770283800@chiunitepray.com
SUMMARY:Together Chicago Prayer Partners
DESCRIPTION:Join our prayer team online Tuesday & Thursday mornings to pray for the Five Focus Areas of Together Chicago. \nSign up for weekly email and Zoom link: togetherchicago.com/prayer-partners
URL:https://chiunitepray.com/event/together-chicago-prayer-partners-19/
CATEGORIES:Prayer
ATTACH;FMTTYPE=image/png:https://chiunitepray.com/wp-content/uploads/2026/02/TC-Prayer-Partners-1-z9UrHS.png
ORGANIZER;CN="Together Chicago":MAILTO:info@togetherchicago.com
END:VEVENT
BEGIN:VEVENT
DTSTART;TZID=America/Chicago:20260205T050000
DTEND;TZID=America/Chicago:20260205T063000
DTSTAMP:20260422T033943
CREATED:20251209T124431Z
LAST-MODIFIED:20260205T181615Z
UID:80722-1770267600-1770273000@chiunitepray.com
SUMMARY:Citywide Prayer Watch
DESCRIPTION:This Chicago and Chicagoland prayer meeting is online Thursday mornings. \nWe begin with five minutes of silence\,  Start with scripture\, and then seek God’s direction to pray His kingdom come and His will be done for the city. \nPlease fill out this survey for zoom access: Citywide Prayer Sign up
URL:https://chiunitepray.com/event/citywide-prayer-watch-6/
CATEGORIES:Prayer
ATTACH;FMTTYPE=image/jpeg:https://chiunitepray.com/wp-content/uploads/2025/12/IMG_3561-e1765226517136-OSRlGb.jpg
ORGANIZER;CN="Chicagoland United in Prayer":MAILTO:info@chiunitepray.com
END:VEVENT
END:VCALENDAR